BEGIN:VCALENDAR
VERSION:2.0
PRODID:-//Stránky Kateřiny Pitnerové - ECPv6.15.20//NONSGML v1.0//EN
CALSCALE:GREGORIAN
METHOD:PUBLISH
X-ORIGINAL-URL:https://pitnerova.cz
X-WR-CALDESC:Akce na Stránky Kateřiny Pitnerové
REFRESH-INTERVAL;VALUE=DURATION:PT1H
X-Robots-Tag:noindex
X-PUBLISHED-TTL:PT1H
BEGIN:VTIMEZONE
TZID:Europe/Prague
BEGIN:DAYLIGHT
TZOFFSETFROM:+0100
TZOFFSETTO:+0200
TZNAME:CEST
DTSTART:20250330T010000
END:DAYLIGHT
BEGIN:STANDARD
TZOFFSETFROM:+0200
TZOFFSETTO:+0100
TZNAME:CET
DTSTART:20251026T010000
END:STANDARD
BEGIN:DAYLIGHT
TZOFFSETFROM:+0100
TZOFFSETTO:+0200
TZNAME:CEST
DTSTART:20260329T010000
END:DAYLIGHT
BEGIN:STANDARD
TZOFFSETFROM:+0200
TZOFFSETTO:+0100
TZNAME:CET
DTSTART:20261025T010000
END:STANDARD
BEGIN:DAYLIGHT
TZOFFSETFROM:+0100
TZOFFSETTO:+0200
TZNAME:CEST
DTSTART:20270328T010000
END:DAYLIGHT
BEGIN:STANDARD
TZOFFSETFROM:+0200
TZOFFSETTO:+0100
TZNAME:CET
DTSTART:20271031T010000
END:STANDARD
END:VTIMEZONE
BEGIN:VEVENT
DTSTART;TZID=Europe/Prague:20260221T100000
DTEND;TZID=Europe/Prague:20260221T130000
DTSTAMP:20260420T003144
CREATED:20260123T104718Z
LAST-MODIFIED:20260219T094951Z
UID:609-1771668000-1771678800@pitnerova.cz
SUMMARY:2. Drezurní trénink s Mgr. Jáchimovou
DESCRIPTION:Dne 21.2.2026 se v čase 10-13h uskuteční drezurní trénink pod vedením Mgr. Věry Jáchimové. Trénink bude probíhat na obdélníku 20×40 m. Více informací na události na FCB ZDE. Vstupné pro diváky je dobrovolné a všichni diváci jsou srdečně vítáni. Jen s příchodem a odchodem do haly vyčkejte konce tréninku. \n  \nAktuálně je trénink plně obsazený. Je možné se hlásit pouze jako náhradník.
URL:https://pitnerova.cz/akce/2-drezurni-trenink-s-mgr-jachimovou-2/
LOCATION:Farma u Bílého Domu\, Lhotka 156\, Lhotka 156\, Spálené Poříčí\, Plzeňský kraj\, 335 61\, Czech Republic
CATEGORIES:Drezurní tréninky
ATTACH;FMTTYPE=image/jpeg:https://pitnerova.cz/wp-content/uploads/2026/02/637464741_26413054181611923_8168408801033710035_n.jpg
END:VEVENT
END:VCALENDAR