BEGIN:VCALENDAR
VERSION:2.0
PRODID:-//Stránky Kateřiny Pitnerové - ECPv6.15.20//NONSGML v1.0//EN
CALSCALE:GREGORIAN
METHOD:PUBLISH
X-WR-CALNAME:Stránky Kateřiny Pitnerové
X-ORIGINAL-URL:https://pitnerova.cz
X-WR-CALDESC:Akce na Stránky Kateřiny Pitnerové
REFRESH-INTERVAL;VALUE=DURATION:PT1H
X-Robots-Tag:noindex
X-PUBLISHED-TTL:PT1H
BEGIN:VTIMEZONE
TZID:Europe/Prague
BEGIN:DAYLIGHT
TZOFFSETFROM:+0100
TZOFFSETTO:+0200
TZNAME:CEST
DTSTART:20250330T010000
END:DAYLIGHT
BEGIN:STANDARD
TZOFFSETFROM:+0200
TZOFFSETTO:+0100
TZNAME:CET
DTSTART:20251026T010000
END:STANDARD
BEGIN:DAYLIGHT
TZOFFSETFROM:+0100
TZOFFSETTO:+0200
TZNAME:CEST
DTSTART:20260329T010000
END:DAYLIGHT
BEGIN:STANDARD
TZOFFSETFROM:+0200
TZOFFSETTO:+0100
TZNAME:CET
DTSTART:20261025T010000
END:STANDARD
BEGIN:DAYLIGHT
TZOFFSETFROM:+0100
TZOFFSETTO:+0200
TZNAME:CEST
DTSTART:20270328T010000
END:DAYLIGHT
BEGIN:STANDARD
TZOFFSETFROM:+0200
TZOFFSETTO:+0100
TZNAME:CET
DTSTART:20271031T010000
END:STANDARD
END:VTIMEZONE
BEGIN:VEVENT
DTSTART;TZID=Europe/Prague:20260419T000000
DTEND;TZID=Europe/Prague:20260419T235959
DTSTAMP:20260421T105541
CREATED:20260123T103939Z
LAST-MODIFIED:20260219T102536Z
UID:605-1776556800-1776643199@pitnerova.cz
SUMMARY:7. Drezurní závody ve FUDB – 3. kolo Lhotka Dressage Cup
DESCRIPTION:Dne 19.4.2026 se uskuteční 3. kolo Lhotka Dressage Cup. Všichni závodníci se registrují přes JIS. Vstupné pro diváky je dobrovolné a všichni diváci jsou srdečně vítáni. Pokud můžete\, tak psy nechte doma. Pokud to není možné\, tak budou v areálu vždy na vodítku. Volným pobíháním psů ohrožujete zdraví jezdců i koní.
URL:https://pitnerova.cz/akce/7-drezurni-zavody-ve-fudb-3-kolo-lhotka-dressage-cup/
LOCATION:Farma u Bílého Domu\, Lhotka 156\, Lhotka 156\, Spálené Poříčí\, Plzeňský kraj\, 335 61\, Czech Republic
CATEGORIES:Závody
ATTACH;FMTTYPE=image/png:https://pitnerova.cz/wp-content/uploads/2026/02/Designer-4.png
END:VEVENT
END:VCALENDAR